BEGIN:VCALENDAR
PRODID:-//Microsoft Corporation//Outlook MIMEDIR//EN
VERSION:2.0
METHOD:PUBLISH
BEGIN:VEVENT
DTSTART:20260504T180000
DTEND:20260504T190000
DESCRIPTION:
LOCATION:Central Park Library, Margie Edinger Room
SUMMARY:Board of Library Trustees
CATEGORIES:MEETING
END:VEVENT
END:VCALENDAR
