BEGIN:VCALENDAR
PRODID:-//Microsoft Corporation//Outlook MIMEDIR//EN
VERSION:2.0
METHOD:PUBLISH
BEGIN:VEVENT
DTSTART:20260512T180000
DTEND:20260512T190000
DESCRIPTION:
LOCATION:Youth & Teen Center  2446 Cabrillo Avenue Santa Clara, CA 95051
SUMMARY:Youth Commission
CATEGORIES:MEETING
END:VEVENT
END:VCALENDAR
