BEGIN:VCALENDAR
PRODID:-//Microsoft Corporation//Outlook MIMEDIR//EN
VERSION:2.0
METHOD:PUBLISH
BEGIN:VEVENT
DTSTART:20260511T190000
DTEND:20260511T200000
DESCRIPTION:
LOCATION:Hybrid Meeting  Sparacino Conference Room - City Hall East Wing  1500 Warburton Avenue  Santa Clara, CA 95050
SUMMARY:Parks & Recreation Commission
CATEGORIES:MEETING
END:VEVENT
END:VCALENDAR
