BEGIN:VCALENDAR
PRODID:-//Microsoft Corporation//Outlook MIMEDIR//EN
VERSION:2.0
METHOD:PUBLISH
BEGIN:VEVENT
DTSTART:20260514T173000
DTEND:20260514T183000
DESCRIPTION:
LOCATION:Hybrid Meeting City Hall Council Chambers/Virtual 1500 Warburton Avenue Santa Clara, CA 95050
SUMMARY:Bond Compliance Oversight Committee
CATEGORIES:MEETING
END:VEVENT
END:VCALENDAR
