BEGIN:VCALENDAR
PRODID:-//Microsoft Corporation//Outlook MIMEDIR//EN
VERSION:2.0
METHOD:PUBLISH
BEGIN:VEVENT
DTSTART:20260520T180000
DTEND:20260520T190000
DESCRIPTION:
LOCATION:Santa Clara Central Library 2635 Homestead Rd Santa Clara, CA 95051
SUMMARY:Charter Review Committee 
CATEGORIES:MEETING
END:VEVENT
END:VCALENDAR
