BEGIN:VCALENDAR
PRODID:-//Microsoft Corporation//Outlook MIMEDIR//EN
VERSION:2.0
METHOD:PUBLISH
BEGIN:VEVENT
DTSTART:20260518T170000
DTEND:20260518T180000
DESCRIPTION:
LOCATION:Hybrid Meeting Santa Clara Senior Center Room 205 1303 Fremont Street Santa Clara, CA 95050
SUMMARY:Senior Advisory Commission
CATEGORIES:MEETING
END:VEVENT
END:VCALENDAR
