BEGIN:VCALENDAR
PRODID:-//Microsoft Corporation//Outlook MIMEDIR//EN
VERSION:2.0
METHOD:PUBLISH
BEGIN:VEVENT
DTSTART:20260505T190000
DTEND:20260505T200000
DESCRIPTION:
LOCATION:Hybrid Meeting City Hall Council Chambers/Virtual 1500 Warburton Avenue Santa Clara, CA 95050
SUMMARY:City Council and Authorities Concurrent
CATEGORIES:MEETING
END:VEVENT
END:VCALENDAR
