BEGIN:VCALENDAR
PRODID:-//Microsoft Corporation//Outlook MIMEDIR//EN
VERSION:2.0
METHOD:PUBLISH
BEGIN:VEVENT
DTSTART:20260504T170000
DTEND:20260504T180000
DESCRIPTION:
LOCATION:Northside Branch Library 695 Moreland Way, Santa Clara, CA 95054
SUMMARY:Stadium Neighborhood Relations Ad Hoc Subcommittee
CATEGORIES:MEETING
END:VEVENT
END:VCALENDAR
